BEGIN:VCALENDAR
VERSION:2.0
PRODID:-//The Happy Choir :) - ECPv6.15.1.1//NONSGML v1.0//EN
CALSCALE:GREGORIAN
METHOD:PUBLISH
X-WR-CALNAME:The Happy Choir :)
X-ORIGINAL-URL:https://thehappychoir.com
X-WR-CALDESC:Events for The Happy Choir :)
REFRESH-INTERVAL;VALUE=DURATION:PT1H
X-Robots-Tag:noindex
X-PUBLISHED-TTL:PT1H
BEGIN:VTIMEZONE
TZID:America/Chicago
BEGIN:DAYLIGHT
TZOFFSETFROM:-0600
TZOFFSETTO:-0500
TZNAME:CDT
DTSTART:20230312T080000
END:DAYLIGHT
BEGIN:STANDARD
TZOFFSETFROM:-0500
TZOFFSETTO:-0600
TZNAME:CST
DTSTART:20231105T070000
END:STANDARD
END:VTIMEZONE
BEGIN:VEVENT
DTSTART;TZID=America/Chicago:20230507T080000
DTEND;TZID=America/Chicago:20230507T170000
DTSTAMP:20260423T023248
CREATED:20230222T025222Z
LAST-MODIFIED:20230222T025222Z
UID:8841-1683446400-1683478800@thehappychoir.com
SUMMARY:EXIGENCE Vocal Ensemble - Holding Our Breath
DESCRIPTION:
URL:https://thehappychoir.com/event/exigence-vocal-ensemble-holding-our-breath/
LOCATION:Silva Concert Hall\, Eugene\, OR\, United States
CATEGORIES:Performance
ATTACH;FMTTYPE=image/jpeg:https://thehappychoir.com/wp-content/uploads/2021/08/EXIGENCEperformingduringtheSphinxArtistShowcase-scaled.jpg
END:VEVENT
BEGIN:VEVENT
DTSTART;TZID=America/Chicago:20230506T150000
DTEND;TZID=America/Chicago:20230506T170000
DTSTAMP:20260423T023248
CREATED:20230311T221131Z
LAST-MODIFIED:20230311T221131Z
UID:8861-1683385200-1683392400@thehappychoir.com
SUMMARY:A La Nanita Nana (Arr.) - World Premiere - Carnegie Hall
DESCRIPTION:
URL:https://thehappychoir.com/event/a-la-nanita-nana-arr-world-premiere-carnegie-hall/
LOCATION:Carnegie Hall\, 881 7th Ave\, New Yor\, NY\, 10019\, United States
ATTACH;FMTTYPE=image/jpeg:https://thehappychoir.com/wp-content/uploads/2023/03/tucker_ncc_II013-copy-1070x600-1.jpg
END:VEVENT
BEGIN:VEVENT
DTSTART;TZID=America/Chicago:20230311T193000
DTEND;TZID=America/Chicago:20230311T193000
DTSTAMP:20260423T023248
CREATED:20230308T065427Z
LAST-MODIFIED:20230308T065427Z
UID:8855-1678563000-1678563000@thehappychoir.com
SUMMARY:Within / Let Your True Self Sing - Chorus Austin
DESCRIPTION:
URL:https://thehappychoir.com/event/within-let-your-true-self-sing-chorus-austin/
LOCATION:First Unitarian Universalist Church\, 4700 Grover Ave\, Austin\, TX\, 78756\, United States
ATTACH;FMTTYPE=image/png:https://thehappychoir.com/wp-content/uploads/2023/03/content_CA_SWV_2023_FB_Cover__1640_×_924_px_2_560x300.png
END:VEVENT
BEGIN:VEVENT
DTSTART;TZID=America/Chicago:20230304T140000
DTEND;TZID=America/Chicago:20230305T000000
DTSTAMP:20260423T023248
CREATED:20230303T215121Z
LAST-MODIFIED:20230303T215248Z
UID:8847-1677938400-1677974400@thehappychoir.com
SUMMARY:We Are Waves - Mendelssohn Chorus Of Philadelphia / Commonwealth Youthchoirs.
DESCRIPTION:
URL:https://thehappychoir.com/event/we-are-waves-mendelssohn-chorus-of-philadelphia-commonwealth-youthchoirs/
LOCATION:Temple Performing Arts Center\, 1837 N. Broad Street\, Philadelphia\, PA\, United States
CATEGORIES:Performance
ATTACH;FMTTYPE=image/jpeg:https://thehappychoir.com/wp-content/uploads/2023/03/DSC04816.jpg
END:VEVENT
END:VCALENDAR